BEGIN:VCALENDAR
VERSION:2.0
PRODID:-//CSU - ECPv6.15.20//NONSGML v1.0//EN
CALSCALE:GREGORIAN
METHOD:PUBLISH
X-WR-CALNAME:CSU
X-ORIGINAL-URL:https://www.charlestonsouthern.edu
X-WR-CALDESC:Events for CSU
REFRESH-INTERVAL;VALUE=DURATION:PT1H
X-Robots-Tag:noindex
X-PUBLISHED-TTL:PT1H
BEGIN:VTIMEZONE
TZID:America/New_York
BEGIN:DAYLIGHT
TZOFFSETFROM:-0500
TZOFFSETTO:-0400
TZNAME:EDT
DTSTART:20250309T070000
END:DAYLIGHT
BEGIN:STANDARD
TZOFFSETFROM:-0400
TZOFFSETTO:-0500
TZNAME:EST
DTSTART:20251102T060000
END:STANDARD
BEGIN:DAYLIGHT
TZOFFSETFROM:-0500
TZOFFSETTO:-0400
TZNAME:EDT
DTSTART:20260308T070000
END:DAYLIGHT
BEGIN:STANDARD
TZOFFSETFROM:-0400
TZOFFSETTO:-0500
TZNAME:EST
DTSTART:20261101T060000
END:STANDARD
BEGIN:DAYLIGHT
TZOFFSETFROM:-0500
TZOFFSETTO:-0400
TZNAME:EDT
DTSTART:20270314T070000
END:DAYLIGHT
BEGIN:STANDARD
TZOFFSETFROM:-0400
TZOFFSETTO:-0500
TZNAME:EST
DTSTART:20271107T060000
END:STANDARD
END:VTIMEZONE
BEGIN:VEVENT
DTSTART;TZID=America/New_York:20260116T190000
DTEND;TZID=America/New_York:20260116T230000
DTSTAMP:20260422T073221
CREATED:20260114T144622Z
LAST-MODIFIED:20260114T154448Z
UID:10001100-1768590000-1768604400@www.charlestonsouthern.edu
SUMMARY:Sweet 16: Bucs Be Rollin’
DESCRIPTION:Come out to Costin Plaza for our very first “Bucs be Rollin” event! We will have roller skating\, games\, pizza\, and more! We can’t wait to see you there! \n  \nDate: Friday\, Jan 16Time: 7-11 p.m.Location: Costin PlazaCost: 5 OCC donations \nRegister here!
URL:https://www.charlestonsouthern.edu/event/sweet-16-bucs-be-rollin/
LOCATION:Costin Plaza
CATEGORIES:Sweet 16,Student Life,All
END:VEVENT
END:VCALENDAR